BEGIN:VCALENDAR
PRODID:-//PUBBLE//enter agenda//NL
VERSION:2.0
METHOD:PUBLISH
BEGIN:VEVENT
DTSTART:20180510T120000Z
DTEND:20180511T143000Z
DTSTAMP:20260423T033248Z
UID:6a168ff3-6d9c-4428-b87f-f17d264ac980
CREATED:20260423T033248Z
URL:https://www.weespfoto.nl/agenda/item/99563
NAME:BussumseMiddagWandel4Daagse60+ weespfoto.nl
X-WR-CALNAME:BussumseMiddagWandel4Daagse60+ weespfoto.nl
X-ALT-DESC;FMTTYPE=text/html:<a href='https://www.weespfoto.nl/agenda/item//99563'>https://weespfoto.nl/agenda/item//99563</a> || <p>zie info BMW4Daagse60+  bij  dinsdag 8 mei.</p>
DESCRIPTION:<a href='https://www.weespfoto.nl/agenda/item//99563'>https://www.weespfoto.nl/agenda/item//99563</a> || zie info BMW4Daagse60+  bij  dinsdag 8 mei.
LAST-MODIFIED:20260423T033248Z
LOCATION:Station Naarden-Bussum Historische Kring Bussum stationsweg 3 1404an Bussum
SEQUENCE:0
STATUS:CONFIRMED
SUMMARY:BussumseMiddagWandel4Daagse60+
TRANSP:OPAQUE
END:VEVENT
END:VCALENDAR
