BEGIN:VCALENDAR
PRODID:-//PUBBLE//enter agenda//NL
VERSION:2.0
METHOD:PUBLISH
BEGIN:VEVENT
DTSTART:20180511T120000Z
DTEND:20180511T143000Z
DTSTAMP:20260423T125445Z
UID:23e46f6b-9af6-44b9-b818-37fb4213c147
CREATED:20260423T125445Z
URL:https://www.weespfoto.nl/agenda/item/99572
NAME:BussumseMiddagWandel4Daagse60+ weespfoto.nl
X-WR-CALNAME:BussumseMiddagWandel4Daagse60+ weespfoto.nl
X-ALT-DESC;FMTTYPE=text/html:<a href='https://www.weespfoto.nl/agenda/item//99572'>https://weespfoto.nl/agenda/item//99572</a> || <p>zie hiervoor de info die op de dinsdag is vermeld voor de lange website versie.</p>
DESCRIPTION:<a href='https://www.weespfoto.nl/agenda/item//99572'>https://www.weespfoto.nl/agenda/item//99572</a> || zie hiervoor de info die op de dinsdag is vermeld voor de lange website versie.
LAST-MODIFIED:20260423T125445Z
LOCATION:Vivium Godelinde Jozef Israëlslaan 1 1401cm Bussum
SEQUENCE:0
STATUS:CONFIRMED
SUMMARY:BussumseMiddagWandel4Daagse60+
TRANSP:OPAQUE
END:VEVENT
END:VCALENDAR
