BEGIN:VCALENDAR
PRODID:-//PUBBLE//enter agenda//NL
VERSION:2.0
METHOD:PUBLISH
BEGIN:VEVENT
DTSTART:20180509T090000Z
DTEND:20180509T150000Z
DTSTAMP:20260422T153315Z
UID:f9055f0b-1343-46f2-aeec-542db25b99f9
CREATED:20260422T153315Z
URL:https://www.weespfoto.nl/agenda/item/99672
NAME:Hooikoorts behandelen met Homeoapathie weespfoto.nl
X-WR-CALNAME:Hooikoorts behandelen met Homeoapathie weespfoto.nl
X-ALT-DESC;FMTTYPE=text/html:<a href='https://www.weespfoto.nl/agenda/item//99672'>https://weespfoto.nl/agenda/item//99672</a> || <p>Gratis informatiespreekuur over de behandeling van hooikoorts met homeopaat Dorothea Renkema. Vanaf het voorjaar last van niesbuien, jeukende en tranende ogen, kriebelende neus? Kom naar het spreekuur tussen 11:00 en 17:00 uur om te bespreken hoe klassieke homeopathie uw klachten kan helpen verlichten. Bel eerst om een afspraak te maken voor dit 10 minuten gesprek. Telefoon 020 - 690 53 55</p>

DESCRIPTION:<a href='https://www.weespfoto.nl/agenda/item//99672'>https://www.weespfoto.nl/agenda/item//99672</a> || Gratis informatiespreekuur over de behandeling van hooikoorts met homeopaat Dorothea Renkema. Vanaf het voorjaar last van niesbuien, jeukende en tranende ogen, kriebelende neus? Kom naar het spreekuur tussen 11:00 en 17:00 uur om te bespreken hoe klassieke homeopathie uw klachten kan helpen verlichten. Bel eerst om een afspraak te maken voor dit 10 minuten gesprek. Telefoon 020 - 690 53 55

LAST-MODIFIED:20260422T153315Z
LOCATION:Homeopathie Praktijk Diemen Karwijzaaderf 3 1112jn Diemen
SEQUENCE:0
STATUS:CONFIRMED
SUMMARY:Hooikoorts behandelen met Homeoapathie
TRANSP:OPAQUE
END:VEVENT
END:VCALENDAR
