BEGIN:VCALENDAR
PRODID:-//PUBBLE//enter agenda//NL
VERSION:2.0
METHOD:PUBLISH
BEGIN:VEVENT
DTSTART:20180511T181500Z
DTEND:20180511T203000Z
DTSTAMP:20260423T193150Z
UID:8aefef1b-30fb-43d8-9f16-7c8454df7770
CREATED:20260423T193150Z
URL:https://www.weespfoto.nl/agenda/item/99673
NAME:Elias & Cordas on Tour weespfoto.nl
X-WR-CALNAME:Elias & Cordas on Tour weespfoto.nl
X-ALT-DESC;FMTTYPE=text/html:<a href='https://www.weespfoto.nl/agenda/item//99673'>https://weespfoto.nl/agenda/item//99673</a> || <p>Het 35e seizoen van de Stad-Huisconcerten wordt afgesloten met het 300e concert van de serie.&nbsp;Het&nbsp;lustrumconcert wordt verzorgd door Izhar Elias en Fernando Cordas. Twee topgitaristen die elk hun eigen weg bewandelen maar ook al jaren samen prachtige programma&#39;s maken. Op het programma voor de pauze de ouverture van Il barbiere di Sevilla van Rossini, het Thema met variaties uit het strijkkwartet nr 18 van Beethoven en de pianosonate nr 21 in D van Schubert (arrangement van Fernando!). Na de pauze: stukken van Rodrigo, Alb&eacute;niz en de Falla: Spaans temperament en vuur voor twee gitaren.&nbsp;Kaarten a &euro; 15 aan de zaal,&nbsp;jongeren tot 16 jaar gratis.&nbsp;</p>

DESCRIPTION:<a href='https://www.weespfoto.nl/agenda/item//99673'>https://www.weespfoto.nl/agenda/item//99673</a> || Het 35e seizoen van de Stad-Huisconcerten wordt afgesloten met het 300e concert van de serie. Het lustrumconcert wordt verzorgd door Izhar Elias en Fernando Cordas. Twee topgitaristen die elk hun eigen weg bewandelen maar ook al jaren samen prachtige programma's maken. Op het programma voor de pauze de ouverture van Il barbiere di Sevilla van Rossini, het Thema met variaties uit het strijkkwartet nr 18 van Beethoven en de pianosonate nr 21 in D van Schubert (arrangement van Fernando!). Na de pauze: stukken van Rodrigo, Albéniz en de Falla: Spaans temperament en vuur voor twee gitaren. Kaarten a € 15 aan de zaal, jongeren tot 16 jaar gratis. 

LAST-MODIFIED:20260423T193150Z
LOCATION:Stadhuis Weesp Nieuwstraat 41 Nieuwstraat 41 1381bb Weesp
SEQUENCE:0
STATUS:CONFIRMED
SUMMARY:Elias & Cordas on Tour
TRANSP:OPAQUE
END:VEVENT
END:VCALENDAR
