BEGIN:VCALENDAR
PRODID:-//PUBBLE//enter agenda//NL
VERSION:2.0
METHOD:PUBLISH
BEGIN:VEVENT
DTSTART:20180506T140000Z
DTEND:20180506T154500Z
DTSTAMP:20260421T203942Z
UID:d3ee1911-2096-4fc0-b46a-47d96c7f88fc
CREATED:20260421T203942Z
URL:https://www.weespfoto.nl/agenda/item/99681
NAME:Internationaal ensemble "Sietske & Band" op zondagmiddag 6 mei in theater De Boerderij Huizen  weespfoto.nl
X-WR-CALNAME:Internationaal ensemble "Sietske & Band" op zondagmiddag 6 mei in theater De Boerderij Huizen  weespfoto.nl
X-ALT-DESC;FMTTYPE=text/html:<a href='https://www.weespfoto.nl/agenda/item//99681'>https://weespfoto.nl/agenda/item//99681</a> || <p>Eerste concert van nieuw initiatief Stichting Kunst & Cultuur Huizen
Internationaal ensemble "Sietske & Band" op zondagmiddag
6 mei in theater De Boerderij Huizen om 16:00 uur.

HUIZEN – Een nieuw initiatief van de Stichting Kunst & Cultuur Huizen is het organiseren in eigen beheer van concerten en voorstellingen in theater De Boerderij. Door de ingrijpende beperkingen van het aantal activiteiten in De Boerderij is er ruimte vrijgekomen voor culturele podiumkunsten. De Kunststichting is in overleg met De Boerderij in dat gat gesprongen. Op zondagmiddag 6 mei vanaf 16.00 uur zal voor het eerst in deze constructie een concert plaatsvinden door het internationale ensemble Sietske & Band van de bejubelde zangeres Sietske Roscam Abbing. Entreeprijs €15.--. reserveren via kunstencultuurhuizen@gmail.com of telefonisch 06-29013206. Info theater De Boerderij: https://www.deboerderijhuizen.nl/

Een optreden van deze vertolkster van hedendaagse vocale jazz met singer songwriter-invloeden stond al langer op het verlanglijstje van stichtingsvoorzitter Frans Bianchi. Het overigens succesvolle maandelijkse kunstcafé biedt door zijn grote variëteit aan onderwerpen in praktische zin echter te weinig soelaas voor een compleet concert. Andere mogelijkheden voor live-concerten zijn vrijwel uitgeput in Huizen.
De nieuwe opzet maakt het cultuuraanbod weer wat breder in Huizen. </p>
DESCRIPTION:<a href='https://www.weespfoto.nl/agenda/item//99681'>https://www.weespfoto.nl/agenda/item//99681</a> || Eerste concert van nieuw initiatief Stichting Kunst & Cultuur Huizen
Internationaal ensemble "Sietske & Band" op zondagmiddag
6 mei in theater De Boerderij Huizen om 16:00 uur.

HUIZEN – Een nieuw initiatief van de Stichting Kunst & Cultuur Huizen is het organiseren in eigen beheer van concerten en voorstellingen in theater De Boerderij. Door de ingrijpende beperkingen van het aantal activiteiten in De Boerderij is er ruimte vrijgekomen voor culturele podiumkunsten. De Kunststichting is in overleg met De Boerderij in dat gat gesprongen. Op zondagmiddag 6 mei vanaf 16.00 uur zal voor het eerst in deze constructie een concert plaatsvinden door het internationale ensemble Sietske & Band van de bejubelde zangeres Sietske Roscam Abbing. Entreeprijs €15.--. reserveren via kunstencultuurhuizen@gmail.com of telefonisch 06-29013206. Info theater De Boerderij: https://www.deboerderijhuizen.nl/

Een optreden van deze vertolkster van hedendaagse vocale jazz met singer songwriter-invloeden stond al langer op het verlanglijstje van stichtingsvoorzitter Frans Bianchi. Het overigens succesvolle maandelijkse kunstcafé biedt door zijn grote variëteit aan onderwerpen in praktische zin echter te weinig soelaas voor een compleet concert. Andere mogelijkheden voor live-concerten zijn vrijwel uitgeput in Huizen.
De nieuwe opzet maakt het cultuuraanbod weer wat breder in Huizen. 
LAST-MODIFIED:20260421T203942Z
LOCATION:Theater De Boerderij Huizen Hellingstraat 9 1271va Huizen
SEQUENCE:0
STATUS:CONFIRMED
SUMMARY:Internationaal ensemble "Sietske & Band" op zondagmiddag 6 mei in theater De Boerderij Huizen 
TRANSP:OPAQUE
END:VEVENT
END:VCALENDAR
