BEGIN:VCALENDAR
PRODID:-//PUBBLE//enter agenda//NL
VERSION:2.0
METHOD:PUBLISH
BEGIN:VEVENT
DTSTART:20180506T100000Z
DTEND:20180506T150000Z
DTSTAMP:20260421T111617Z
UID:b05352b3-a8ed-41e1-924f-0d63ad5bd422
CREATED:20260421T111617Z
URL:https://www.weespfoto.nl/agenda/item/99705
NAME:Vier het Voorjaar bij Vernissage  weespfoto.nl
X-WR-CALNAME:Vier het Voorjaar bij Vernissage  weespfoto.nl
X-ALT-DESC;FMTTYPE=text/html:<a href='https://www.weespfoto.nl/agenda/item//99705'>https://weespfoto.nl/agenda/item//99705</a> || <p>Vier het voorjaar bij Vernissage in Fortwerk IV!

Ook dit jaar vieren we het voorjaar! Kom genieten in het Fort op zondag 6 mei van 12:00 tot 17:00.
Een heerlijke dag voor het hele gezin!  Voor de kinderen zijn er diverse activiteiten, zo kunnen zij hun eigen pizza’s maken in de buitenoven, een cupcake  versieren, knutselen of lekker knuffelen met de dieren van  de kinderboerderij.
Op onze lentemarkt zijn er diverse kramen met mode, accessoires, cadeauartikelen, sieraden, en nog veel meer. Ook kunt u genieten van een koffie proeverij, een demo glaskralen maken en worden er  “clogs” ter plekke voor u gemaakt.
Voor de innerlijke mens zijn er heerlijke hapjes en mooie wijnen en andere drankjes of misschien wel een ijsje van de ijsbrommer!
Entree=gratis!
U bent van harte welkom aan de Abraham Kuyperlaan 1A in Bussum
www.vernissage.nl  035 69  16788  info@vernissage.nl

</p>
DESCRIPTION:<a href='https://www.weespfoto.nl/agenda/item//99705'>https://www.weespfoto.nl/agenda/item//99705</a> || Vier het voorjaar bij Vernissage in Fortwerk IV!

Ook dit jaar vieren we het voorjaar! Kom genieten in het Fort op zondag 6 mei van 12:00 tot 17:00.
Een heerlijke dag voor het hele gezin!  Voor de kinderen zijn er diverse activiteiten, zo kunnen zij hun eigen pizza’s maken in de buitenoven, een cupcake  versieren, knutselen of lekker knuffelen met de dieren van  de kinderboerderij.
Op onze lentemarkt zijn er diverse kramen met mode, accessoires, cadeauartikelen, sieraden, en nog veel meer. Ook kunt u genieten van een koffie proeverij, een demo glaskralen maken en worden er  “clogs” ter plekke voor u gemaakt.
Voor de innerlijke mens zijn er heerlijke hapjes en mooie wijnen en andere drankjes of misschien wel een ijsje van de ijsbrommer!
Entree=gratis!
U bent van harte welkom aan de Abraham Kuyperlaan 1A in Bussum
www.vernissage.nl  035 69  16788  info@vernissage.nl


LAST-MODIFIED:20260421T111617Z
LOCATION:Vernissage/Fort Werk IV dr. Abraham Kuyperlaan 1a 1402sb Bussum
SEQUENCE:0
STATUS:CONFIRMED
SUMMARY:Vier het Voorjaar bij Vernissage 
TRANSP:OPAQUE
END:VEVENT
END:VCALENDAR
