BEGIN:VCALENDAR
PRODID:-//PUBBLE//enter agenda//NL
VERSION:2.0
METHOD:PUBLISH
BEGIN:VEVENT
DTSTART:20180510T083000Z
DTEND:20180510T093000Z
DTSTAMP:20260422T230730Z
UID:f875395f-fd65-460f-add9-9c124ce3481f
CREATED:20260422T230730Z
URL:https://www.weespfoto.nl/agenda/item/99728
NAME:Openlucht viering (bij mooi weer) weespfoto.nl
X-WR-CALNAME:Openlucht viering (bij mooi weer) weespfoto.nl
X-ALT-DESC;FMTTYPE=text/html:<a href='https://www.weespfoto.nl/agenda/item//99728'>https://weespfoto.nl/agenda/item//99728</a> || <p>Openlucht viering (bij mooi weer)

Viering Hemelvaart met voorgangers Han Hartog en Paul Germans
Bij mooi weer in de tuin van de Ontmoeting en anders in De Ontmoeting</p>
DESCRIPTION:<a href='https://www.weespfoto.nl/agenda/item//99728'>https://www.weespfoto.nl/agenda/item//99728</a> || Openlucht viering (bij mooi weer)

Viering Hemelvaart met voorgangers Han Hartog en Paul Germans
Bij mooi weer in de tuin van de Ontmoeting en anders in De Ontmoeting
LAST-MODIFIED:20260422T230730Z
LOCATION:De Ontmoeting Schoolstraat 8 - 10 1111br Diemen
SEQUENCE:0
STATUS:CONFIRMED
SUMMARY:Openlucht viering (bij mooi weer)
TRANSP:OPAQUE
END:VEVENT
END:VCALENDAR
