BEGIN:VCALENDAR
PRODID:-//PUBBLE//enter agenda//NL
VERSION:2.0
METHOD:PUBLISH
BEGIN:VEVENT
DTSTART:20180513T080000Z
DTEND:20180513T090000Z
DTSTAMP:20260424T155229Z
UID:922e11b9-6dd0-4671-92ff-0bd16e1bcd8c
CREATED:20260424T155229Z
URL:https://www.weespfoto.nl/agenda/item/99729
NAME:Kerkdienst weespfoto.nl
X-WR-CALNAME:Kerkdienst weespfoto.nl
X-ALT-DESC;FMTTYPE=text/html:<a href='https://www.weespfoto.nl/agenda/item//99729'>https://weespfoto.nl/agenda/item//99729</a> || <p>Kerkdienst 
Voorganger is ds. W.H. Brouwer van Diemen-Duivendrecht met kinderdienst</p>
DESCRIPTION:<a href='https://www.weespfoto.nl/agenda/item//99729'>https://www.weespfoto.nl/agenda/item//99729</a> || Kerkdienst 
Voorganger is ds. W.H. Brouwer van Diemen-Duivendrecht met kinderdienst
LAST-MODIFIED:20260424T155229Z
LOCATION:De Ontmoeting Schoolstraat 8 - 10 1111br Diemen
SEQUENCE:0
STATUS:CONFIRMED
SUMMARY:Kerkdienst
TRANSP:OPAQUE
END:VEVENT
END:VCALENDAR
