BEGIN:VCALENDAR
PRODID:-//PUBBLE//enter agenda//NL
VERSION:2.0
METHOD:PUBLISH
BEGIN:VEVENT
DTSTART:20180512T123000Z
DTEND:20180512T143000Z
DTSTAMP:20260424T073102Z
UID:467fe4a9-eebd-4b1c-b8f5-8aa463709595
CREATED:20260424T073102Z
URL:https://www.weespfoto.nl/agenda/item/99742
NAME:Zondagmiddagpodium  weespfoto.nl
X-WR-CALNAME:Zondagmiddagpodium  weespfoto.nl
X-ALT-DESC;FMTTYPE=text/html:<a href='https://www.weespfoto.nl/agenda/item//99742'>https://weespfoto.nl/agenda/item//99742</a> || Op zaterdag 12 mei komt Eddy van Slimming optreden tijdens het Zondagmiddagpodium in de Schakel (vanwege moederdag eenmalig op zaterdag). Een vrolijk en stijlvol muziekoptreden met beroemde melodieën. Bekende muziek om gezellig mee te zingen, klappen, bewegen, dansen of om gewoon lekker naar te luisteren. 
Entree: € 4

DESCRIPTION:<a href='https://www.weespfoto.nl/agenda/item//99742'>https://www.weespfoto.nl/agenda/item//99742</a> || Op zaterdag 12 mei komt Eddy van Slimming optreden tijdens het Zondagmiddagpodium in de Schakel (vanwege moederdag eenmalig op zaterdag). Een vrolijk en stijlvol muziekoptreden met beroemde melodieën. Bekende muziek om gezellig mee te zingen, klappen, bewegen, dansen of om gewoon lekker naar te luisteren. 
Entree: € 4

LAST-MODIFIED:20260424T073102Z
LOCATION:De Schakel Burg. Bickerstraat 46-A 1111CC Diemen
SEQUENCE:0
STATUS:CONFIRMED
SUMMARY:Zondagmiddagpodium 
TRANSP:OPAQUE
END:VEVENT
END:VCALENDAR
